Package: sva Version: 3.55.0 Command: /Library/Frameworks/R.framework/Resources/bin/R CMD build --keep-empty-dirs --no-resave-data sva StartedAt: 2025-02-12 18:31:55 -0500 (Wed, 12 Feb 2025) EndedAt: 2025-02-12 18:32:59 -0500 (Wed, 12 Feb 2025) EllapsedTime: 63.9 seconds RetCode: 0 Status: OK PackageFile: sva_3.55.0.tar.gz PackageFileSize: 442.8 KiB