Package: sva Version: 3.55.0 Command: /Library/Frameworks/R.framework/Resources/bin/R CMD check --install=check:sva.install-out.txt --library=/Library/Frameworks/R.framework/Resources/library --no-vignettes --timings sva_3.55.0.tar.gz StartedAt: 2025-02-10 00:00:09 -0500 (Mon, 10 Feb 2025) EndedAt: 2025-02-10 00:03:56 -0500 (Mon, 10 Feb 2025) EllapsedTime: 227.3 seconds RetCode: 0 Status: OK CheckDir: sva.Rcheck Warnings: 0