Package: sva Version: 3.55.0 Command: /home/biocbuild/bbs-3.21-bioc/R/bin/R CMD check --install=check:sva.install-out.txt --library=/home/biocbuild/bbs-3.21-bioc/R/site-library --timings sva_3.55.0.tar.gz StartedAt: 2025-02-10 03:12:22 -0500 (Mon, 10 Feb 2025) EndedAt: 2025-02-10 03:16:18 -0500 (Mon, 10 Feb 2025) EllapsedTime: 236.3 seconds RetCode: 0 Status: OK CheckDir: sva.Rcheck Warnings: 0