Package: sva Version: 3.55.0 Command: /home/biocbuild/bbs-3.21-bioc/R/bin/R CMD INSTALL sva StartedAt: 2025-02-09 15:27:39 -0500 (Sun, 09 Feb 2025) EndedAt: 2025-02-09 15:28:00 -0500 (Sun, 09 Feb 2025) EllapsedTime: 20.2 seconds RetCode: 0 Status: OK