Package: sva Version: 3.55.0 Command: E:\biocbuild\bbs-3.21-bioc\R\bin\R.exe CMD INSTALL sva StartedAt: 2025-02-09 15:57:20 -0500 (Sun, 09 Feb 2025) EndedAt: 2025-02-09 15:57:54 -0500 (Sun, 09 Feb 2025) EllapsedTime: 33.7 seconds RetCode: 0 Status: OK