Package: svaRetro Version: 1.13.0 Command: rm -rf svaRetro.buildbin-libdir && mkdir svaRetro.buildbin-libdir && /Users/biocbuild/BBS/utils/build-universal.sh svaRetro_1.13.0.tar.gz /Library/Frameworks/R.framework/Resources/bin/R svaRetro.buildbin-libdir StartedAt: 2025-02-09 22:32:54 -0500 (Sun, 09 Feb 2025) EndedAt: 2025-02-09 22:33:13 -0500 (Sun, 09 Feb 2025) EllapsedTime: 18.5 seconds RetCode: 0 Status: OK PackageFile: svaRetro_1.13.0.tgz PackageFileSize: 1.53 MiB