Package: svaRetro Version: 1.13.0 Command: /home/biocbuild/R/R/bin/R CMD INSTALL svaRetro StartedAt: 2025-01-29 19:57:40 -0000 (Wed, 29 Jan 2025) EndedAt: 2025-01-29 19:58:35 -0000 (Wed, 29 Jan 2025) EllapsedTime: 54.9 seconds RetCode: 0 Status: OK