Package: svaRetro Version: 1.13.0 Command: /home/biocbuild/bbs-3.21-bioc/R/bin/R CMD build --keep-empty-dirs --no-resave-data svaRetro StartedAt: 2025-02-09 19:31:47 -0500 (Sun, 09 Feb 2025) EndedAt: 2025-02-09 19:33:01 -0500 (Sun, 09 Feb 2025) EllapsedTime: 74.1 seconds RetCode: 0 Status: OK PackageFile: svaRetro_1.13.0.tar.gz PackageFileSize: 1.596 MiB