Package: svaRetro Version: 1.13.0 Command: E:\biocbuild\bbs-3.21-bioc\R\bin\R.exe CMD check --no-multiarch --install=check:svaRetro.install-out.txt --library=E:\biocbuild\bbs-3.21-bioc\R\library --no-vignettes --timings svaRetro_1.13.0.tar.gz StartedAt: 2025-02-10 06:01:15 -0500 (Mon, 10 Feb 2025) EndedAt: 2025-02-10 06:08:02 -0500 (Mon, 10 Feb 2025) EllapsedTime: 407.0 seconds RetCode: 0 Status: OK CheckDir: svaRetro.Rcheck Warnings: 0