Package: switchde Version: 1.33.0 Command: rm -rf switchde.buildbin-libdir && mkdir switchde.buildbin-libdir && /Users/biocbuild/BBS/utils/build-universal.sh switchde_1.33.0.tar.gz /Library/Frameworks/R.framework/Resources/bin/R switchde.buildbin-libdir StartedAt: 2025-02-04 00:59:37 -0500 (Tue, 04 Feb 2025) EndedAt: 2025-02-04 01:00:13 -0500 (Tue, 04 Feb 2025) EllapsedTime: 35.8 seconds RetCode: 0 Status: OK PackageFile: switchde_1.33.0.tgz PackageFileSize: 1.072 MiB