Package: switchde Version: 1.33.0 Command: /home/biocbuild/bbs-3.21-bioc/R/bin/R CMD check --install=check:switchde.install-out.txt --library=/home/biocbuild/bbs-3.21-bioc/R/site-library --timings switchde_1.33.0.tar.gz StartedAt: 2025-02-10 03:13:49 -0500 (Mon, 10 Feb 2025) EndedAt: 2025-02-10 03:16:55 -0500 (Mon, 10 Feb 2025) EllapsedTime: 186.2 seconds RetCode: 0 Status: OK CheckDir: switchde.Rcheck Warnings: 0