Package: switchde Version: 1.33.0 Command: /home/biocbuild/bbs-3.21-bioc/R/bin/R CMD INSTALL switchde StartedAt: 2025-02-09 15:31:29 -0500 (Sun, 09 Feb 2025) EndedAt: 2025-02-09 15:31:53 -0500 (Sun, 09 Feb 2025) EllapsedTime: 24.3 seconds RetCode: 0 Status: OK