Package: switchde Version: 1.33.0 Command: rm -rf switchde.buildbin-libdir && mkdir switchde.buildbin-libdir && E:\biocbuild\bbs-3.21-bioc\R\bin\R.exe CMD INSTALL --build --library=switchde.buildbin-libdir switchde_1.33.0.tar.gz StartedAt: 2025-02-10 08:50:07 -0500 (Mon, 10 Feb 2025) EndedAt: 2025-02-10 08:50:39 -0500 (Mon, 10 Feb 2025) EllapsedTime: 31.3 seconds RetCode: 0 Status: OK PackageFile: switchde_1.33.0.zip PackageFileSize: 535.9 KiB