Package: synapsis Version: 1.13.0 Command: /Library/Frameworks/R.framework/Resources/bin/R CMD build --keep-empty-dirs --no-resave-data synapsis StartedAt: 2025-02-12 17:47:02 -0500 (Wed, 12 Feb 2025) EndedAt: 2025-02-12 17:47:15 -0500 (Wed, 12 Feb 2025) EllapsedTime: 13.2 seconds RetCode: 0 Status: OK PackageFile: synapsis_1.13.0.tar.gz PackageFileSize: 3.532 MiB