Package: synapsis Version: 1.13.0 Command: /home/biocbuild/bbs-3.21-bioc/R/bin/R CMD build --keep-empty-dirs --no-resave-data synapsis StartedAt: 2025-02-09 19:32:11 -0500 (Sun, 09 Feb 2025) EndedAt: 2025-02-09 19:32:41 -0500 (Sun, 09 Feb 2025) EllapsedTime: 30.0 seconds RetCode: 0 Status: OK PackageFile: synapsis_1.13.0.tar.gz PackageFileSize: 3.448 MiB