Package: synapsis Version: 1.13.0 Command: /home/biocbuild/bbs-3.21-bioc/R/bin/R CMD INSTALL synapsis StartedAt: 2025-02-09 15:13:23 -0500 (Sun, 09 Feb 2025) EndedAt: 2025-02-09 15:13:27 -0500 (Sun, 09 Feb 2025) EllapsedTime: 4.2 seconds RetCode: 0 Status: OK