Package: synapsis Version: 1.13.0 Command: rm -rf synapsis.buildbin-libdir && mkdir synapsis.buildbin-libdir && E:\biocbuild\bbs-3.21-bioc\R\bin\R.exe CMD INSTALL --build --library=synapsis.buildbin-libdir synapsis_1.13.0.tar.gz StartedAt: 2025-02-10 08:50:10 -0500 (Mon, 10 Feb 2025) EndedAt: 2025-02-10 08:50:30 -0500 (Mon, 10 Feb 2025) EllapsedTime: 20.0 seconds RetCode: 0 Status: OK PackageFile: synapsis_1.13.0.zip PackageFileSize: 3.786 MiB