Package: synapsis Version: 1.13.0 Command: chmod a+r synapsis -R && E:\biocbuild\bbs-3.21-bioc\R\bin\R.exe CMD build --keep-empty-dirs --no-resave-data synapsis StartedAt: 2025-02-09 22:00:32 -0500 (Sun, 09 Feb 2025) EndedAt: 2025-02-09 22:01:19 -0500 (Sun, 09 Feb 2025) EllapsedTime: 47.1 seconds RetCode: 0 Status: OK PackageFile: synapsis_1.13.0.tar.gz PackageFileSize: 3.726 MiB