Package: synapsis Version: 1.13.0 Command: E:\biocbuild\bbs-3.21-bioc\R\bin\R.exe CMD check --no-multiarch --install=check:synapsis.install-out.txt --library=E:\biocbuild\bbs-3.21-bioc\R\library --no-vignettes --timings synapsis_1.13.0.tar.gz StartedAt: 2025-02-10 06:02:45 -0500 (Mon, 10 Feb 2025) EndedAt: 2025-02-10 06:03:37 -0500 (Mon, 10 Feb 2025) EllapsedTime: 52.3 seconds RetCode: 0 Status: OK CheckDir: synapsis.Rcheck Warnings: 0