Package: synapsis Version: 1.13.0 Command: E:\biocbuild\bbs-3.21-bioc\R\bin\R.exe CMD INSTALL synapsis StartedAt: 2025-02-09 15:36:11 -0500 (Sun, 09 Feb 2025) EndedAt: 2025-02-09 15:36:40 -0500 (Sun, 09 Feb 2025) EllapsedTime: 28.8 seconds RetCode: 0 Status: OK