Package: synapter Version: 2.31.0 Command: /Library/Frameworks/R.framework/Resources/bin/R CMD build --keep-empty-dirs --no-resave-data synapter StartedAt: 2025-02-09 17:46:28 -0500 (Sun, 09 Feb 2025) EndedAt: 2025-02-09 17:48:40 -0500 (Sun, 09 Feb 2025) EllapsedTime: 131.5 seconds RetCode: 0 Status: OK PackageFile: synapter_2.31.0.tar.gz PackageFileSize: 4.708 MiB