Package: synapter Version: 2.31.0 Command: /Library/Frameworks/R.framework/Resources/bin/R CMD check --install=check:synapter.install-out.txt --library=/Library/Frameworks/R.framework/Resources/library --no-vignettes --timings synapter_2.31.0.tar.gz StartedAt: 2025-02-09 21:40:53 -0500 (Sun, 09 Feb 2025) EndedAt: 2025-02-09 21:43:05 -0500 (Sun, 09 Feb 2025) EllapsedTime: 131.7 seconds RetCode: 0 Status: OK CheckDir: synapter.Rcheck Warnings: 0