Package: synapter Version: 2.31.0 Command: /Library/Frameworks/R.framework/Resources/bin/R CMD INSTALL synapter StartedAt: 2025-02-09 15:22:17 -0500 (Sun, 09 Feb 2025) EndedAt: 2025-02-09 15:22:40 -0500 (Sun, 09 Feb 2025) EllapsedTime: 22.5 seconds RetCode: 0 Status: OK