Package: synapter Version: 2.31.0 Command: /Library/Frameworks/R.framework/Resources/bin/R CMD build --keep-empty-dirs --no-resave-data synapter StartedAt: 2025-02-12 18:32:24 -0500 (Wed, 12 Feb 2025) EndedAt: 2025-02-12 18:38:45 -0500 (Wed, 12 Feb 2025) EllapsedTime: 380.6 seconds RetCode: 0 Status: OK PackageFile: synapter_2.31.0.tar.gz PackageFileSize: 4.635 MiB