Package: synapter Version: 2.31.0 Command: /Library/Frameworks/R.framework/Resources/bin/R CMD check --install=check:synapter.install-out.txt --library=/Library/Frameworks/R.framework/Resources/library --no-vignettes --timings synapter_2.31.0.tar.gz StartedAt: 2025-02-12 23:46:08 -0500 (Wed, 12 Feb 2025) EndedAt: 2025-02-12 23:52:26 -0500 (Wed, 12 Feb 2025) EllapsedTime: 377.7 seconds RetCode: 0 Status: OK CheckDir: synapter.Rcheck Warnings: 0