Package: synapter Version: 2.31.0 Command: /home/biocbuild/bbs-3.21-bioc/R/bin/R CMD build --keep-empty-dirs --no-resave-data synapter StartedAt: 2025-02-12 19:28:06 -0500 (Wed, 12 Feb 2025) EndedAt: 2025-02-12 19:34:13 -0500 (Wed, 12 Feb 2025) EllapsedTime: 366.7 seconds RetCode: 0 Status: OK PackageFile: synapter_2.31.0.tar.gz PackageFileSize: 4.576 MiB