Package: synapter Version: 2.31.0 Command: /home/biocbuild/bbs-3.21-bioc/R/bin/R CMD INSTALL synapter StartedAt: 2025-02-09 15:35:55 -0500 (Sun, 09 Feb 2025) EndedAt: 2025-02-09 15:36:52 -0500 (Sun, 09 Feb 2025) EllapsedTime: 57.8 seconds RetCode: 0 Status: OK