Package: synapter Version: 2.31.0 Command: chmod a+r synapter -R && E:\biocbuild\bbs-3.21-bioc\R\bin\R.exe CMD build --keep-empty-dirs --no-resave-data synapter StartedAt: 2025-02-09 22:00:37 -0500 (Sun, 09 Feb 2025) EndedAt: 2025-02-09 22:09:23 -0500 (Sun, 09 Feb 2025) EllapsedTime: 526.2 seconds RetCode: 0 Status: OK PackageFile: synapter_2.31.0.tar.gz PackageFileSize: 2.84 MiB