Package: synapter Version: 2.31.0 Command: E:\biocbuild\bbs-3.21-bioc\R\bin\R.exe CMD check --no-multiarch --install=check:synapter.install-out.txt --library=E:\biocbuild\bbs-3.21-bioc\R\library --no-vignettes --timings synapter_2.31.0.tar.gz StartedAt: 2025-02-10 06:02:59 -0500 (Mon, 10 Feb 2025) EndedAt: 2025-02-10 06:09:55 -0500 (Mon, 10 Feb 2025) EllapsedTime: 416.2 seconds RetCode: 0 Status: OK CheckDir: synapter.Rcheck Warnings: 0