Package: synergyfinder Version: 3.15.0 Maintainer: Shuyu Zheng MaintainerEmail: shuyu.zheng at helsinki.fi git_url: https://git.bioconductor.org/packages/synergyfinder git_branch: devel git_last_commit: b44cfae git_last_commit_date: 2024-10-29 10:13:57 -0500 (Tue, 29 Oct 2024)