Package: synergyfinder Version: 3.15.0 Command: /home/biocbuild/R/R/bin/R CMD build --keep-empty-dirs --no-resave-data synergyfinder StartedAt: 2025-01-28 02:50:26 -0000 (Tue, 28 Jan 2025) EndedAt: 2025-01-28 02:52:49 -0000 (Tue, 28 Jan 2025) EllapsedTime: 143.1 seconds RetCode: 0 Status: OK PackageFile: synergyfinder_3.15.0.tar.gz PackageFileSize: 6.089 MiB