Package: synergyfinder Version: 3.15.0 Command: /home/biocbuild/R/R/bin/R CMD check --install=check:synergyfinder.install-out.txt --library=/home/biocbuild/R/R/site-library --no-vignettes --timings synergyfinder_3.15.0.tar.gz StartedAt: 2025-01-28 15:57:56 -0000 (Tue, 28 Jan 2025) EndedAt: 2025-01-28 16:00:10 -0000 (Tue, 28 Jan 2025) EllapsedTime: 134.3 seconds RetCode: 0 Status: WARNINGS CheckDir: synergyfinder.Rcheck Warnings: 1