Package: synergyfinder Version: 3.15.0 Command: /home/biocbuild/bbs-3.21-bioc/R/bin/R CMD build --keep-empty-dirs --no-resave-data synergyfinder StartedAt: 2025-02-09 19:32:26 -0500 (Sun, 09 Feb 2025) EndedAt: 2025-02-09 19:33:55 -0500 (Sun, 09 Feb 2025) EllapsedTime: 89.1 seconds RetCode: 0 Status: OK PackageFile: synergyfinder_3.15.0.tar.gz PackageFileSize: 6.452 MiB