Package: synergyfinder Version: 3.15.0 Command: rm -rf synergyfinder.buildbin-libdir && mkdir synergyfinder.buildbin-libdir && E:\biocbuild\bbs-3.21-bioc\R\bin\R.exe CMD INSTALL --build --library=synergyfinder.buildbin-libdir synergyfinder_3.15.0.tar.gz StartedAt: 2025-02-10 08:50:13 -0500 (Mon, 10 Feb 2025) EndedAt: 2025-02-10 08:51:09 -0500 (Mon, 10 Feb 2025) EllapsedTime: 56.4 seconds RetCode: 0 Status: OK PackageFile: synergyfinder_3.15.0.zip PackageFileSize: 3.382 MiB