Package: synergyfinder Version: 3.15.0 Command: chmod a+r synergyfinder -R && E:\biocbuild\bbs-3.21-bioc\R\bin\R.exe CMD build --keep-empty-dirs --no-resave-data synergyfinder StartedAt: 2025-02-09 22:00:56 -0500 (Sun, 09 Feb 2025) EndedAt: 2025-02-09 22:03:12 -0500 (Sun, 09 Feb 2025) EllapsedTime: 136.5 seconds RetCode: 0 Status: OK PackageFile: synergyfinder_3.15.0.tar.gz PackageFileSize: 6.044 MiB