Package: synergyfinder Version: 3.15.0 Command: E:\biocbuild\bbs-3.21-bioc\R\bin\R.exe CMD check --no-multiarch --install=check:synergyfinder.install-out.txt --library=E:\biocbuild\bbs-3.21-bioc\R\library --no-vignettes --timings synergyfinder_3.15.0.tar.gz StartedAt: 2025-02-13 06:14:35 -0500 (Thu, 13 Feb 2025) EndedAt: 2025-02-13 06:16:36 -0500 (Thu, 13 Feb 2025) EllapsedTime: 120.8 seconds RetCode: 0 Status: WARNINGS CheckDir: synergyfinder.Rcheck Warnings: 1