Package: syntenet Version: 1.9.1 Command: /Library/Frameworks/R.framework/Resources/bin/R CMD INSTALL syntenet StartedAt: 2025-02-09 15:18:28 -0500 (Sun, 09 Feb 2025) EndedAt: 2025-02-09 15:18:48 -0500 (Sun, 09 Feb 2025) EllapsedTime: 20.4 seconds RetCode: 0 Status: OK