Package: syntenet Version: 1.9.1 Command: /home/biocbuild/R/R/bin/R CMD build --keep-empty-dirs --no-resave-data syntenet StartedAt: 2025-01-28 02:51:11 -0000 (Tue, 28 Jan 2025) EndedAt: 2025-01-28 02:53:34 -0000 (Tue, 28 Jan 2025) EllapsedTime: 142.1 seconds RetCode: 0 Status: OK PackageFile: syntenet_1.9.1.tar.gz PackageFileSize: 2.342 MiB