Package: syntenet Version: 1.9.1 Command: /home/biocbuild/R/R/bin/R CMD INSTALL syntenet StartedAt: 2025-01-29 20:13:26 -0000 (Wed, 29 Jan 2025) EndedAt: 2025-01-29 20:14:54 -0000 (Wed, 29 Jan 2025) EllapsedTime: 88.4 seconds RetCode: 0 Status: OK