Package: syntenet Version: 1.9.1 Command: rm -rf syntenet.buildbin-libdir && mkdir syntenet.buildbin-libdir && /Users/biocbuild/BBS/utils/build-universal.sh syntenet_1.9.1.tar.gz /Library/Frameworks/R.framework/Resources/bin/R syntenet.buildbin-libdir StartedAt: 2025-02-10 01:19:49 -0500 (Mon, 10 Feb 2025) EndedAt: 2025-02-10 01:21:08 -0500 (Mon, 10 Feb 2025) EllapsedTime: 78.3 seconds RetCode: 0 Status: OK PackageFile: syntenet_1.9.1.tgz PackageFileSize: 3.148 MiB