Package: syntenet Version: 1.9.1 Command: /Library/Frameworks/R.framework/Resources/bin/R CMD check --install=check:syntenet.install-out.txt --library=/Library/Frameworks/R.framework/Resources/library --no-vignettes --timings syntenet_1.9.1.tar.gz StartedAt: 2025-02-10 00:02:23 -0500 (Mon, 10 Feb 2025) EndedAt: 2025-02-10 00:07:28 -0500 (Mon, 10 Feb 2025) EllapsedTime: 304.4 seconds RetCode: 0 Status: OK CheckDir: syntenet.Rcheck Warnings: 0