Package: syntenet Version: 1.9.1 Command: /Library/Frameworks/R.framework/Resources/bin/R CMD INSTALL syntenet StartedAt: 2025-02-12 15:27:37 -0500 (Wed, 12 Feb 2025) EndedAt: 2025-02-12 15:28:51 -0500 (Wed, 12 Feb 2025) EllapsedTime: 73.1 seconds RetCode: 0 Status: OK