Package: systemPipeR Version: 2.13.0 Command: rm -rf systemPipeR.buildbin-libdir && mkdir systemPipeR.buildbin-libdir && /Users/biocbuild/BBS/utils/build-universal.sh systemPipeR_2.13.0.tar.gz /Library/Frameworks/R.framework/Resources/bin/R systemPipeR.buildbin-libdir StartedAt: 2025-02-03 23:08:41 -0500 (Mon, 03 Feb 2025) EndedAt: 2025-02-03 23:09:01 -0500 (Mon, 03 Feb 2025) EllapsedTime: 19.5 seconds RetCode: 0 Status: OK PackageFile: systemPipeR_2.13.0.tgz PackageFileSize: 6.293 MiB