Package: systemPipeR Version: 2.13.0 Command: /Library/Frameworks/R.framework/Resources/bin/R CMD build --keep-empty-dirs --no-resave-data systemPipeR StartedAt: 2025-02-09 17:46:50 -0500 (Sun, 09 Feb 2025) EndedAt: 2025-02-09 17:47:24 -0500 (Sun, 09 Feb 2025) EllapsedTime: 34.4 seconds RetCode: 0 Status: OK PackageFile: systemPipeR_2.13.0.tar.gz PackageFileSize: 6.498 MiB