Package: systemPipeR Version: 2.13.0 Command: /Library/Frameworks/R.framework/Resources/bin/R CMD build --keep-empty-dirs --no-resave-data systemPipeR StartedAt: 2025-02-03 18:36:05 -0500 (Mon, 03 Feb 2025) EndedAt: 2025-02-03 18:37:47 -0500 (Mon, 03 Feb 2025) EllapsedTime: 101.6 seconds RetCode: 0 Status: OK PackageFile: systemPipeR_2.13.0.tar.gz PackageFileSize: 6.497 MiB