Package: systemPipeR Version: 2.13.0 Command: /home/biocbuild/bbs-3.21-bioc/R/bin/R CMD INSTALL systemPipeR StartedAt: 2025-02-09 15:50:16 -0500 (Sun, 09 Feb 2025) EndedAt: 2025-02-09 15:51:02 -0500 (Sun, 09 Feb 2025) EllapsedTime: 46.2 seconds RetCode: 0 Status: OK