Package: systemPipeR Version: 2.13.0 Command: rm -rf systemPipeR.buildbin-libdir && mkdir systemPipeR.buildbin-libdir && E:\biocbuild\bbs-3.21-bioc\R\bin\R.exe CMD INSTALL --build --library=systemPipeR.buildbin-libdir systemPipeR_2.13.0.tar.gz StartedAt: 2025-02-04 09:03:38 -0500 (Tue, 04 Feb 2025) EndedAt: 2025-02-04 09:06:51 -0500 (Tue, 04 Feb 2025) EllapsedTime: 193.7 seconds RetCode: 0 Status: OK PackageFile: systemPipeR_2.13.0.zip PackageFileSize: 6.368 MiB