Package: systemPipeR Version: 2.13.0 Command: chmod a+r systemPipeR -R && E:\biocbuild\bbs-3.21-bioc\R\bin\R.exe CMD build --keep-empty-dirs --no-resave-data systemPipeR StartedAt: 2025-02-09 22:01:20 -0500 (Sun, 09 Feb 2025) EndedAt: 2025-02-09 22:04:33 -0500 (Sun, 09 Feb 2025) EllapsedTime: 192.3 seconds RetCode: 0 Status: OK PackageFile: systemPipeR_2.13.0.tar.gz PackageFileSize: 7.336 MiB