Package: systemPipeR Version: 2.13.0 Command: E:\biocbuild\bbs-3.21-bioc\R\bin\R.exe CMD INSTALL systemPipeR StartedAt: 2025-02-09 16:51:52 -0500 (Sun, 09 Feb 2025) EndedAt: 2025-02-09 16:55:51 -0500 (Sun, 09 Feb 2025) EllapsedTime: 239.6 seconds RetCode: 0 Status: OK