Package: systemPipeShiny Version: 1.17.0 Command: rm -rf systemPipeShiny.buildbin-libdir && mkdir systemPipeShiny.buildbin-libdir && /Users/biocbuild/BBS/utils/build-universal.sh systemPipeShiny_1.17.0.tar.gz /Library/Frameworks/R.framework/Resources/bin/R systemPipeShiny.buildbin-libdir StartedAt: 2025-02-04 22:34:49 -0500 (Tue, 04 Feb 2025) EndedAt: 2025-02-04 22:34:56 -0500 (Tue, 04 Feb 2025) EllapsedTime: 7.2 seconds RetCode: 0 Status: OK PackageFile: systemPipeShiny_1.17.0.tgz PackageFileSize: 3.58 MiB